BEGIN:VCALENDAR
VERSION:2.0
PRODID:-//edna Bundesverband - ECPv6.15.20//NONSGML v1.0//EN
CALSCALE:GREGORIAN
METHOD:PUBLISH
X-ORIGINAL-URL:https://edna-bundesverband.de
X-WR-CALDESC:Veranstaltungen für edna Bundesverband
REFRESH-INTERVAL;VALUE=DURATION:PT1H
X-Robots-Tag:noindex
X-PUBLISHED-TTL:PT1H
BEGIN:VTIMEZONE
TZID:Europe/Berlin
BEGIN:DAYLIGHT
TZOFFSETFROM:+0100
TZOFFSETTO:+0200
TZNAME:CEST
DTSTART:20240331T010000
END:DAYLIGHT
BEGIN:STANDARD
TZOFFSETFROM:+0200
TZOFFSETTO:+0100
TZNAME:CET
DTSTART:20241027T010000
END:STANDARD
BEGIN:DAYLIGHT
TZOFFSETFROM:+0100
TZOFFSETTO:+0200
TZNAME:CEST
DTSTART:20250330T010000
END:DAYLIGHT
BEGIN:STANDARD
TZOFFSETFROM:+0200
TZOFFSETTO:+0100
TZNAME:CET
DTSTART:20251026T010000
END:STANDARD
BEGIN:DAYLIGHT
TZOFFSETFROM:+0100
TZOFFSETTO:+0200
TZNAME:CEST
DTSTART:20260329T010000
END:DAYLIGHT
BEGIN:STANDARD
TZOFFSETFROM:+0200
TZOFFSETTO:+0100
TZNAME:CET
DTSTART:20261025T010000
END:STANDARD
END:VTIMEZONE
BEGIN:VEVENT
DTSTART;TZID=Europe/Berlin:20251117T180000
DTEND;TZID=Europe/Berlin:20251117T220000
DTSTAMP:20260425T164128
CREATED:20250725T072558Z
LAST-MODIFIED:20250923T141330Z
UID:4045-1763402400-1763416800@edna-bundesverband.de
SUMMARY:11. edna Kamingespräch: Wieviel Regulierung braucht die Energiewende?
DESCRIPTION:17. November 2025 – 18.00 bis 22.00 Uhr \n \nBereits zum elften Mal diskutieren hochkarätige Fachleute beim Kamingespräch des edna Bundesverband Energiemarkt & Kommunikation e.V. aktuelle Themen der Energie. und Versorgungswirtschaft. Das diesjährige Thema ist vor den aktuellen politischen Diskussionen über die Entbürokratisierung und die Kosten der Energiewende besonders brisant: \nWieviel Regulierung braucht die Energiewende? Von Dynamischen Tarifen\, 24h-Lieferantenwechsel bis zum MaBis-Hub \nes diskutieren \n\nProf. Dr. Marc Oliver Bettzüge\, Energiewirtschaftliches Institut an der Universität zu Köln gGmbH (EWI)\nDipl.-Ing. Susanne Jung\, Geschäftsführerin im Vorstand\, SFV Solar Förderverein\nSebastian Limburg\, Bereichsleiter Energiewirtschaft\, NRW.Energy4Climate\nMichael Ramczykowski\, Kompetenzcenterleiter Beschaffung/Handel\, NEW Niederrhein Energie und Wasser GmbH\nDr. Carmen Schneider\, Partner\, FPS Rechtsanwaltsgesellschaft mbH & Co. KG\nDr. Ralf Walther\, Energy Market Lead\, Tibber Deutschland GmbH\n\nDas Gespräch moderiert Bernd Mildebrath\, Schleupen SE. \nWir danken an dieser Stelle auch der ene’t GmbH\, den Gastgeber dies diesjährigen Kamingesprächs. \nSichern Sie sich schon jetzt Ihren Platz\, denn die Teilnehmerzahl ist begrenzt. Für edna-Mitglieder ist die Teilname kostenlos \nHier können Sie sich anmelden \nSie wollen dieses Event als Sponsor unterstützen? Dann melden Sie sich bei der edna-Geschäftsstelle für weitere Informationen
URL:https://edna-bundesverband.de/event/11-edna-kamingespraech-wieviel-regulierung-braucht-die-energiewende/
LOCATION:ene’t GmbH\, Weserstraße 9\, Hückelhoven\, 41836\, Germany
CATEGORIES:edna Fachtreffen
ATTACH;FMTTYPE=image/jpeg:https://edna-bundesverband.de/wp-content/uploads/PNR25941.jpg
END:VEVENT
END:VCALENDAR