BEGIN:VCALENDAR
VERSION:2.0
PRODID:-//edna Bundesverband - ECPv6.15.20//NONSGML v1.0//EN
CALSCALE:GREGORIAN
METHOD:PUBLISH
X-WR-CALNAME:edna Bundesverband
X-ORIGINAL-URL:https://edna-bundesverband.de
X-WR-CALDESC:Veranstaltungen für edna Bundesverband
REFRESH-INTERVAL;VALUE=DURATION:PT1H
X-Robots-Tag:noindex
X-PUBLISHED-TTL:PT1H
BEGIN:VTIMEZONE
TZID:Europe/Berlin
BEGIN:DAYLIGHT
TZOFFSETFROM:+0100
TZOFFSETTO:+0200
TZNAME:CEST
DTSTART:20240331T010000
END:DAYLIGHT
BEGIN:STANDARD
TZOFFSETFROM:+0200
TZOFFSETTO:+0100
TZNAME:CET
DTSTART:20241027T010000
END:STANDARD
BEGIN:DAYLIGHT
TZOFFSETFROM:+0100
TZOFFSETTO:+0200
TZNAME:CEST
DTSTART:20250330T010000
END:DAYLIGHT
BEGIN:STANDARD
TZOFFSETFROM:+0200
TZOFFSETTO:+0100
TZNAME:CET
DTSTART:20251026T010000
END:STANDARD
BEGIN:DAYLIGHT
TZOFFSETFROM:+0100
TZOFFSETTO:+0200
TZNAME:CEST
DTSTART:20260329T010000
END:DAYLIGHT
BEGIN:STANDARD
TZOFFSETFROM:+0200
TZOFFSETTO:+0100
TZNAME:CET
DTSTART:20261025T010000
END:STANDARD
END:VTIMEZONE
BEGIN:VEVENT
DTSTART;TZID=Europe/Berlin:20250217T120000
DTEND;TZID=Europe/Berlin:20250217T130000
DTSTAMP:20260426T045736
CREATED:20241213T134424Z
LAST-MODIFIED:20241213T134531Z
UID:3864-1739793600-1739797200@edna-bundesverband.de
SUMMARY:edna+ Webinar: Gemeinschaftliche Gebäudeversorgung
DESCRIPTION:17. Februar 2025 – 12:00 bis 13:00 Uhr \n \nDie Gemeinschaftliche Gebäudeversorgung entspringt dem Gedanken der Mieterstromversorgung und hat doch einen völlig neuen Ansatz.  Der edna+-Vortrag gibt den Teilnehmenden einen Überblick zur neuen Gemeinschaftlichen Gebäudeversorgung (GGV) nach § 42b Energiewirtschaftsgesetz. Die zur Umsetzung notwendigen Sachverhalte werden kompakt zusammengefasst erläutert. Sie erhalten einen ersten Überblick\, um sowohl intern als auch gegenüber Kunden und Mitstreitern zur Gemeinschaftlichen Gebäudeversorgung sprechfähig zu werden. Der Vortrag eignet sich besonders für Fach- und Führungskräfte aus dem Produktentwicklungs-\, Vertriebsbereich von IT-Herstellern und Beratern\, kleinen und mittleren Energieversorgungsunternehmen sowie Messstellen- und Netzbetreibern\, die sich strategisch oder operativ mit der GGV auseinandersetzen wollen oder müssen. \nAgenda: \n– Merkmale und Eingrenzung einer Gebäudestromanlage \n– Unterschiede zum Standard-Mieterstrommodell \n– Regelungsinhalte eines Gebäudestromnutzungsvertrages – EnWG-Vorgaben und Entwicklung von Musterverträgen \n– Rollen der beteiligten Marktpartner (Anlagenbetreiber\, Letztverbraucher\, Reststromlieferant\, Netz- und\nMessstellenbetreiber) \n– (Informations-)Pflichten des Gebäudestromanlagenbetreibers \n– Aufteilung statisch und dynamisch \n– Umsetzung Marktkommunikation (Datenformate und Aufgaben der beteiligten Marktpartner) \n– Anwendungshilfen der Verbände \n– Weitere Diskussion zum Energy-Sharing (Solarpaket II)  \nReferent: Dipl. Ing. Rüdiger Winkler\, ifed. \n\nGeschäftsführer Institut für Energiedienstleistungen GmbH (IfED)\, Lörrach\nWirkt seit 1998 verantwortlich an den Marktregeln der Energiewirtschaft  mit und seit 1991 an den Fördergesetzen für Erneuerbare Energien\nAssoziiertes Mitglied der EEG-Clearingstelle\n\nAnmeldung hier\, Sie erhalten den Webinar-Link dann kurz vor der Veranstaltung.
URL:https://edna-bundesverband.de/event/edna-webinar-gemeinschaftliche-gebaeudeversorgung/
CATEGORIES:edna+ Webinar
ATTACH;FMTTYPE=image/jpeg:https://edna-bundesverband.de/wp-content/uploads/mikrofon-ansprache-taetigkeitsbericht.jpg
END:VEVENT
BEGIN:VEVENT
DTSTART;TZID=Europe/Berlin:20250226T140000
DTEND;TZID=Europe/Berlin:20250226T150000
DTSTAMP:20260426T045736
CREATED:20241218T153816Z
LAST-MODIFIED:20241219T100902Z
UID:3868-1740578400-1740582000@edna-bundesverband.de
SUMMARY:evu+ Webinar: Dynamische Tarife und HEMS - Nutzen für Kunden\, Kundinnen und Stadtwerke
DESCRIPTION:26. Februar 2025 – 14:00 bis 15:00 Uhr \n \nMit den evu+ Webinaren richten wir uns künftig speziell an die kleinen und mittleren Versorgungsunternehmen\, wie sie in der Initiative evu+ vertreten sind. \nDen Auftakt macht Ulrich Meyer\, Gründer & Geschäftsführer von enytime.green. In seinem Webinar erläutert er\, wie diese Unternehmen dynamische Tarife sinnvoll einsetzen und die Erzeugung und den Kundennutzen vor Ort miteinander verknüpfen können. Denn die Kunden profitieren so nicht nur von günstigen Preisen\, über die Integration von HEMS wird der Verbrauch regenerativ erzeugter Energien direkt belohnt und die Energiewende für den Endnutzer erlebbar. Das HEMS und alle weiteren Angebote des lokalen Versorgers können dem Kunden ohne größeren Aufwand über eine einheitliche App zur Verfügung gestellt werden. Damit werden kleine und mittlere Versorger schon jetzt befähigt\, entsprechende Angebote aktiv einzusetzen und sich im beginnenden Markthochlauf aktiv gegen die überregionalen Anbieter zu positionieren. \nReferent: Ulrich Meyer\nGründer & Geschäftsführer von enytime.green \nAnmeldung hier – den Zugangslink schicken wir Ihnen kurz vor der Veranstaltung.
URL:https://edna-bundesverband.de/event/evu-webinar-dynamische-tarife-und-hems-nutzen-fuer-kunden-und-kundinnen-und-stadtwerke/
CATEGORIES:edna+ Webinar
ATTACH;FMTTYPE=image/jpeg:https://edna-bundesverband.de/wp-content/uploads/schild-verschiedene-richtungen-flexibilitaet.jpg
END:VEVENT
END:VCALENDAR