BEGIN:VCALENDAR
VERSION:2.0
PRODID:-//edna Bundesverband - ECPv6.15.20//NONSGML v1.0//EN
CALSCALE:GREGORIAN
METHOD:PUBLISH
X-ORIGINAL-URL:https://edna-bundesverband.de
X-WR-CALDESC:Veranstaltungen für edna Bundesverband
REFRESH-INTERVAL;VALUE=DURATION:PT1H
X-Robots-Tag:noindex
X-PUBLISHED-TTL:PT1H
BEGIN:VTIMEZONE
TZID:Europe/Berlin
BEGIN:DAYLIGHT
TZOFFSETFROM:+0100
TZOFFSETTO:+0200
TZNAME:CEST
DTSTART:20240331T010000
END:DAYLIGHT
BEGIN:STANDARD
TZOFFSETFROM:+0200
TZOFFSETTO:+0100
TZNAME:CET
DTSTART:20241027T010000
END:STANDARD
BEGIN:DAYLIGHT
TZOFFSETFROM:+0100
TZOFFSETTO:+0200
TZNAME:CEST
DTSTART:20250330T010000
END:DAYLIGHT
BEGIN:STANDARD
TZOFFSETFROM:+0200
TZOFFSETTO:+0100
TZNAME:CET
DTSTART:20251026T010000
END:STANDARD
BEGIN:DAYLIGHT
TZOFFSETFROM:+0100
TZOFFSETTO:+0200
TZNAME:CEST
DTSTART:20260329T010000
END:DAYLIGHT
BEGIN:STANDARD
TZOFFSETFROM:+0200
TZOFFSETTO:+0100
TZNAME:CET
DTSTART:20261025T010000
END:STANDARD
END:VTIMEZONE
BEGIN:VEVENT
DTSTART;TZID=Europe/Berlin:20250918T100000
DTEND;TZID=Europe/Berlin:20250918T150000
DTSTAMP:20260425T181854
CREATED:20250729T120159Z
LAST-MODIFIED:20250729T120502Z
UID:4054-1758189600-1758207600@edna-bundesverband.de
SUMMARY:PG MaBis-Hub: Vor-Ort-Treffen in Ilmenau
DESCRIPTION:18.09.2025 – 10.00 – 15.00 Uhr \n \nDie edna Projektgruppe MaBis-Hub trifft sich vor Ort beim Fraunhofer IOSB Institutsteil Angewandte Systemtechnik (AST) in Ilmenau. Für Teilnehmer\, die am Vorabend anreisen ist ein gemeinsames Abendessen geplant. \n\nFür die Agenda am Tag ist bis jetzt Folgendes geplant:\n\n– Impulsvortrag MaBiS-Hub\n– Aufgreifen der Ideen des Fachtreffens im April am Chiemsee zum Thema MaBiS-Hub (API / Schattenbilanzierung)\n– Vorstellung des dena Testfelds und zugehöriger Datenräume im Kontext MaBiS-Hub\n– Erarbeitung von regulierten und nicht regulierten Use Cases unter Nutzung des Datenraums \n\nDarüber hinaus wird Christian Neher von Wilken berichten zu:\n\n– Rechtliche Grundlagen/MSbG\n– Messwertverarbeitung im MaBisHub: geplante Vorgehensweise bedingt u.E. eine Anpassung des MSBG\, da hier die Rolle des Messstellenbetreibers als Verantwortlicher für die Messwertverarbeitung definiert wird. \nAnmeldung hier
URL:https://edna-bundesverband.de/event/pg-mabis-hub-vor-ort-treffen-in-ilmenau/
LOCATION:Fraunhofer IOSB/AST\, Am Vogelherd 90\,\, Ilmenau\, Thüringen\, 98693
CATEGORIES:edna-Projektgruppe
ATTACH;FMTTYPE=image/jpeg:https://edna-bundesverband.de/wp-content/uploads/markus-spiske-221494-unsplash.jpg
END:VEVENT
END:VCALENDAR