BEGIN:VCALENDAR
VERSION:2.0
PRODID:-//edna Bundesverband - ECPv6.15.20//NONSGML v1.0//EN
CALSCALE:GREGORIAN
METHOD:PUBLISH
X-ORIGINAL-URL:https://edna-bundesverband.de
X-WR-CALDESC:Veranstaltungen für edna Bundesverband
REFRESH-INTERVAL;VALUE=DURATION:PT1H
X-Robots-Tag:noindex
X-PUBLISHED-TTL:PT1H
BEGIN:VTIMEZONE
TZID:Europe/Berlin
BEGIN:DAYLIGHT
TZOFFSETFROM:+0100
TZOFFSETTO:+0200
TZNAME:CEST
DTSTART:20240331T010000
END:DAYLIGHT
BEGIN:STANDARD
TZOFFSETFROM:+0200
TZOFFSETTO:+0100
TZNAME:CET
DTSTART:20241027T010000
END:STANDARD
BEGIN:DAYLIGHT
TZOFFSETFROM:+0100
TZOFFSETTO:+0200
TZNAME:CEST
DTSTART:20250330T010000
END:DAYLIGHT
BEGIN:STANDARD
TZOFFSETFROM:+0200
TZOFFSETTO:+0100
TZNAME:CET
DTSTART:20251026T010000
END:STANDARD
BEGIN:DAYLIGHT
TZOFFSETFROM:+0100
TZOFFSETTO:+0200
TZNAME:CEST
DTSTART:20260329T010000
END:DAYLIGHT
BEGIN:STANDARD
TZOFFSETFROM:+0200
TZOFFSETTO:+0100
TZNAME:CET
DTSTART:20261025T010000
END:STANDARD
END:VTIMEZONE
BEGIN:VEVENT
DTSTART;TZID=Europe/Berlin:20251203T080000
DTEND;TZID=Europe/Berlin:20251203T120000
DTSTAMP:20260425T134218
CREATED:20251114T084633Z
LAST-MODIFIED:20251114T084633Z
UID:4122-1764748800-1764763200@edna-bundesverband.de
SUMMARY:Gaia-X Roadshow Energie
DESCRIPTION:3. Dezember 2025 – 08:00 bis 12.00 Uhr \n \nDer edna Bundesverband Energimartkt & Kommunikation e.V. ist Partner der Gaia-X Roadshow zum Thema Energie. \nDie bundesweite Veranstaltungsreihe des Gaia-X Hub Germany tourt seit 2024 durch Deutschland\, um zu verdeutlichen\, wie Datenökosysteme auf Basis von Gaia‑X Datensouveränität gestärkt\, sichere und transparente Datenverarbeitung ermöglicht und neue Formen der Zusammenarbeit schafft. \nBei der Gaia-X Roadshow am 3. Dezember steht das Thema „Datenaustausch als Chance: Ökologischer und ökonomischer Mehrwert für Energieunternehmen“ im Mittelpunkt. Besonders im Energiesektor werden die Chancen souveränen Datenaustauschs deutlich sichtbar: Praxisbeispiele wie energydata‑X\, BANULA und die Stadtwerke Erfurt zeigen\, wie innovative Datenräume nachhaltige und wirtschaftliche Mehrwerte für Unternehmen generieren. \nUnser Vorstandsmitglied Oliver Warweg moderiert die Diskussion der Roadshow. Es geht darum\, wie diese Lösungen konkret aussehen und welche nächsten Schritte auf dem Weg zu skalierbaren Datenökosystemen im Energiesektor anstehen. \nRegistrierung\nUnter dem folgenden Link haben Sie die Möglichkeit\, sich kostenlos für die Veranstaltung zu registrieren: ANMELDUNG \nProgramm „Datenaustausch als Chance: Ökologischer und ökonomischer Mehrwert für Energieunternehmen“: \n\n08:00  Registrierung\n08:30  Begrüßung\n08:35  Die Zukunft der Datennutzung im Bereich Energie\nJoanna Klee\, Gaia-X Hub Deutschland c/o acatech\n08:55  Datenräume zur Unterstützung der Energiewende in Deutschland\nUlrich Ahle\, Gaia-X European Association for Data and Cloud (AISBL)\n09:20  Skalierung des Gaia-X Projektes energydata-X im Energiesektor\nSteffen Hofer\, TenneT TSO GmbH\n09:45  Kaffeepause\n10:00  Projektvorstellung BANULA – Integration von grünem Überschussstrom in die Ladeinfrastruktur von Elektrofahrzeugen\nJens Griesing\, Co-Founder\, OLI TransIT\n10:25  Praxisbeispiel Stadtwerke Erfurt: Mehrwerte durch Energiedatenaustausch zwischen Industrie und Energieversorgern\nOliver Warweg\, Fraunhofer IOSB\n10:40  Panel „Von der Vision zur Realität: Wie schaffen Datenökosysteme Wettbewerbsvorteile für alle Marktteilnehmer im Energiesektor?“\nUlrich Ahle\, Gaia-X AISBL\nDr. Volker Flegel\, Celron GmbH\nJens Griesing\, Co-Founder OLI-TransiT\nBenedikt Pulvermüller\, dena Deutsche Energie Agentur GmbH\nModeration: Oliver Warweg\, Fraunhofer IOSB und Vorstandsmitglied\, edna Bundesverband Energiemarkt & Kommunikation\n11:30  Ausblick\nJoanna Klee\, Gaia‑X Hub Deutschland c/o acatech\n11:35  Get-together mit Snacks12:00Ende der Veranstaltung
URL:https://edna-bundesverband.de/event/gaia-x-roadshow-energie/
LOCATION:Future Energy Lab\, Wegelystraße 1\, Berlin\, 10623\, Germany
CATEGORIES:Roadshow
ATTACH;FMTTYPE=image/jpeg:https://edna-bundesverband.de/wp-content/uploads/LinkedIn_Keyvisual_Gaia-X_Roadshow_Partner_edna_e.V.jpg
END:VEVENT
END:VCALENDAR