BEGIN:VCALENDAR
VERSION:2.0
PRODID:-//edna Bundesverband - ECPv6.15.20//NONSGML v1.0//EN
CALSCALE:GREGORIAN
METHOD:PUBLISH
X-ORIGINAL-URL:https://edna-bundesverband.de
X-WR-CALDESC:Veranstaltungen für edna Bundesverband
REFRESH-INTERVAL;VALUE=DURATION:PT1H
X-Robots-Tag:noindex
X-PUBLISHED-TTL:PT1H
BEGIN:VTIMEZONE
TZID:Europe/Berlin
BEGIN:DAYLIGHT
TZOFFSETFROM:+0100
TZOFFSETTO:+0200
TZNAME:CEST
DTSTART:20250330T010000
END:DAYLIGHT
BEGIN:STANDARD
TZOFFSETFROM:+0200
TZOFFSETTO:+0100
TZNAME:CET
DTSTART:20251026T010000
END:STANDARD
BEGIN:DAYLIGHT
TZOFFSETFROM:+0100
TZOFFSETTO:+0200
TZNAME:CEST
DTSTART:20260329T010000
END:DAYLIGHT
BEGIN:STANDARD
TZOFFSETFROM:+0200
TZOFFSETTO:+0100
TZNAME:CET
DTSTART:20261025T010000
END:STANDARD
BEGIN:DAYLIGHT
TZOFFSETFROM:+0100
TZOFFSETTO:+0200
TZNAME:CEST
DTSTART:20270328T010000
END:DAYLIGHT
BEGIN:STANDARD
TZOFFSETFROM:+0200
TZOFFSETTO:+0100
TZNAME:CET
DTSTART:20271031T010000
END:STANDARD
END:VTIMEZONE
BEGIN:VEVENT
DTSTART;TZID=Europe/Berlin:20260304T110000
DTEND;TZID=Europe/Berlin:20260304T120000
DTSTAMP:20260423T091220
CREATED:20260218T091722Z
LAST-MODIFIED:20260218T091722Z
UID:4234-1772622000-1772625600@edna-bundesverband.de
SUMMARY:edna+ Webinar: „Optimale Einsatzplanung von iKWK-Systemen“
DESCRIPTION:4. März 2026 | 11:00 – 12:00 \n \nIn diesem edna+ Webinar zeigen Fraunhofer IOSB-AST\, die TEAG Thüringer Energie AG und die TWS Thüringer Wärme Service GmbH\, wie innovative KWK-Systeme (iKWK) in der Praxis kostenoptimal gefahren und Zusatzerlöse in einem volatilen Marktumfeld generiert werden können. \nAnhand der iKWK-Projekte in Gera Langenberg und Ohrdruf werden Aufbau\, Komponentenmix (BHKW\, Wärmepumpe\, Elektrokessel\, Gaskessel) sowie die spotmarktoptimierte Fahrweise erläutert. \nDas erwartet Sie im Webinar: \n\nVerzahnung von Langfrist- und Day-Ahead-Planung.\nSpotmarktoptimierte Fahrweise der iKWK-Systeme mit BHKW- und Wärmepumpeneinsatz sowie Nutzung von Wärmespeichern zur Flexibilisierung.\nUmgang mit integralen Jahresbedingungen (Primärenergiefaktor\, Referenzwärme\, Jahresarbeitszahl der Wärmepumpe) und deren Auswirkungen auf die Einsatzplanung.\nMethodische und technische Umsetzung im EMS-EDM PROPHET® RPS.\n\nReferenten \n\nChristian Appel\, wissenschaftlicher Mitarbeiter\, Fraunhofer IOSB-AST\nNatalia Isaak-Krackler\, FGL Energiewirtschaft Erzeugung\, TEAG Thüringer Energie AG\nJakob Högner\, Projektmanager\, TWS Thüringer Wärme Service GmbH\n\nDas Webinar richtet sich an Mitarbeitende und Verantwortliche von Stadtwerken\, die ihre Anlagen-Assets (KWK\, iKWK\, Querverbund\, Fernwärme) konsequent für eine erlösoptimale Fahrweise weiterentwickeln möchten. \nAnmeldung hier …
URL:https://edna-bundesverband.de/event/edna-webinar-optimale-einsatzplanung-von-ikwk-systemen/
CATEGORIES:edna+ Webinar
ATTACH;FMTTYPE=image/jpeg:https://edna-bundesverband.de/wp-content/uploads/mikrofon-ansprache-taetigkeitsbericht.jpg
END:VEVENT
END:VCALENDAR